BEGIN:VCALENDAR
VERSION:2.0
PRODID:-//Tukios.com/
BEGIN:VEVENT
UID:430f2001-d7e1-4214-b0d5-3fca18887955@www.pikefh.com
DTSTAMP:20260423T233007Z
DTSTART:20260427T140000Z
DTEND:20260427T150000Z
SUMMARY:Visitation
DESCRIPTION:
URL:https://www.pikefh.com/obituaries/joanne-pruett
LOCATION: 3903 Lake St  Bridgman MI 49106
GEO:41.943196;-86.548785
END:VEVENT
END:VCALENDAR