BEGIN:VCALENDAR
VERSION:2.0
PRODID:-//Tukios.com/
BEGIN:VEVENT
UID:27d25f93-10a6-4992-9ff1-e22488bd1448@www.pikefh.com
DTSTAMP:20260423T232101Z
DTSTART:20260427T150000Z
DTEND:20260427T160000Z
SUMMARY:Mass of Christian Burial
DESCRIPTION:
URL:https://www.pikefh.com/obituaries/joanne-pruett
LOCATION: 3903 Lake St  Bridgman MI 49106
GEO:41.943196;-86.548785
END:VEVENT
END:VCALENDAR