BEGIN:VCALENDAR
VERSION:2.0
PRODID:-//Tukios.com/
BEGIN:VEVENT
UID:7f717ff4-51ab-456d-b4ef-56572ea74c29@www.pikefh.com
DTSTAMP:20260420T221710Z
DTSTART:20260426T170000Z
DTEND:20260426T190000Z
SUMMARY:Gathering of Family and Friends
DESCRIPTION:
URL:https://www.pikefh.com/obituaries/nathan-mcnees
LOCATION: 8970 Red Arrow Hwy  Bridgman MI 49106
GEO:41.9563509;-86.5530809
END:VEVENT
END:VCALENDAR