BEGIN:VCALENDAR
VERSION:2.0
PRODID:-//Tukios.com/
BEGIN:VEVENT
UID:986d64b3-5d11-461e-bb8d-a230b58b88a1@www.pikefh.com
DTSTAMP:20260420T221753Z
DTSTART:20260424T140000Z
DTEND:20260424T150000Z
SUMMARY:Visitation
DESCRIPTION:
URL:https://www.pikefh.com/obituaries/vicki-ott
LOCATION: 9650 Church St  Bridgman MI 49106
GEO:41.9442244;-86.5533995
END:VEVENT
END:VCALENDAR