BEGIN:VCALENDAR
VERSION:2.0
PRODID:-//Tukios.com/
BEGIN:VEVENT
UID:f52a1fd1-efd5-4ba4-a174-0bfc593ee139@www.pikefh.com
DTSTAMP:20260420T222302Z
DTSTART:20260424T150000Z
DTEND:20260424T160000Z
SUMMARY:Funeral Service
DESCRIPTION:
URL:https://www.pikefh.com/obituaries/vicki-ott
LOCATION: 9650 Church St  Bridgman MI 49106
GEO:41.9442244;-86.5533995
END:VEVENT
END:VCALENDAR